BEGIN:VCALENDAR
VERSION:2.0
PRODID:-//Plone.org//NONSGML plone.app.event//EN
X-WR-TIMEZONE:US/Central
BEGIN:VEVENT
SUMMARY:Butterfly STEAM Activities
DTSTART;TZID=US/Central:20260312T100000
DTEND;TZID=US/Central:20260312T110000
DTSTAMP:20260420T155401Z
UID:7bd82b33827b46108e5b4ef8947265a6@saas_stack_varnish:6080
CONTACT:Angie Evans\, 325-356-2122\, CPLsocial@comanchepubliclibrary.onmic
 rosoft.com
CREATED:20260108T222255Z
LAST-MODIFIED:20260108T222310Z
LOCATION:508 E. Central Ave. Comanche\, Texas 76442
URL:https://comanche.ploud.net/news-events-1/lib-cal/butterfly-steam-activ
 ities
END:VEVENT
BEGIN:VTIMEZONE
TZID:US/Central
X-LIC-LOCATION:US/Central
BEGIN:DAYLIGHT
DTSTART:20260308T030000
TZNAME:CDT
TZOFFSETFROM:-0600
TZOFFSETTO:-0500
END:DAYLIGHT
END:VTIMEZONE
END:VCALENDAR
